BEGIN:VCALENDAR
PRODID:-//AT Content Types//AT Event//EN
VERSION:1.0
BEGIN:VEVENT
DTSTART:20250412T073000Z
DTEND:20250412T103000Z
DCREATED:20250326T141441Z
UID:ATEvent-b5edb7172d1d4163b3b5e881423e5dfe
SEQUENCE:0
LAST-MODIFIED:20250326T141451Z
SUMMARY:Roma - Assemblea pubblica su presente e futuro della città di Roma
LOCATION:Polo civico dell'Eesquilino via Galilei 57 - Roma
PRIORITY:3
TRANSP:0
END:VEVENT
END:VCALENDAR
